BEGIN:VCALENDAR
VERSION:2.0
PRODID:-//Tracy Waite Wellness Coach - ECPv6.0.5//NONSGML v1.0//EN
CALSCALE:GREGORIAN
METHOD:PUBLISH
X-ORIGINAL-URL:https://wellnesscoachcornwall.co.uk
X-WR-CALDESC:Events for Tracy Waite Wellness Coach
REFRESH-INTERVAL;VALUE=DURATION:PT1H
X-Robots-Tag:noindex
X-PUBLISHED-TTL:PT1H
BEGIN:VTIMEZONE
TZID:Europe/London
BEGIN:DAYLIGHT
TZOFFSETFROM:+0000
TZOFFSETTO:+0100
TZNAME:BST
DTSTART:20220327T010000
END:DAYLIGHT
BEGIN:STANDARD
TZOFFSETFROM:+0100
TZOFFSETTO:+0000
TZNAME:GMT
DTSTART:20221030T010000
END:STANDARD
END:VTIMEZONE
BEGIN:VEVENT
DTSTART;TZID=Europe/London:20220325T180000
DTEND;TZID=Europe/London:20220328T180000
DTSTAMP:20260425T030525
CREATED:20220216T015216Z
LAST-MODIFIED:20220216T015216Z
UID:1730-1648231200-1648490400@wellnesscoachcornwall.co.uk
SUMMARY:Polperro wellness escape
DESCRIPTION:FULLY BOOKED\, PLS ASK FOR FUTURE DATES \nStaying in a 5 bedroom house in the coastal village of Polperro\, Cornwall. \nA long weekend filled with outdoor fitness and wellness. Morning outdoor training and aqua fitness sessions in the indoor pool provided with the accomodation\, followed by a huge healthy brunch. Afternoon soul trail running/hiking to explore the local area on foot. Evening meal full of fresh vegetables and friendly conversation. \nThis weekend is an escape from the busyness of day to day life. It’s remote location ensures to clear the head of clutter and entices you to spend as much time outside as possible. \n£395 per person
URL:https://wellnesscoachcornwall.co.uk/event/polperro-wellness-escape-2/
CATEGORIES:fitness and wellness retreats,Fitness holiday retreats,Outdoor Fitness and Soul Running,wellness retreats
ATTACH;FMTTYPE=image/jpeg:https://wellnesscoachcornwall.co.uk/wp-content/uploads/2019/05/Tracy-Waite-March-2019-WEB-0074-LO-1.jpg
END:VEVENT
END:VCALENDAR