BEGIN:VCALENDAR
VERSION:2.0
PRODID:-//Tracy Waite Wellness Coach - ECPv6.0.5//NONSGML v1.0//EN
CALSCALE:GREGORIAN
METHOD:PUBLISH
X-WR-CALNAME:Tracy Waite Wellness Coach
X-ORIGINAL-URL:https://wellnesscoachcornwall.co.uk
X-WR-CALDESC:Events for Tracy Waite Wellness Coach
REFRESH-INTERVAL;VALUE=DURATION:PT1H
X-Robots-Tag:noindex
X-PUBLISHED-TTL:PT1H
BEGIN:VTIMEZONE
TZID:Europe/London
BEGIN:DAYLIGHT
TZOFFSETFROM:+0000
TZOFFSETTO:+0100
TZNAME:BST
DTSTART:20240331T010000
END:DAYLIGHT
BEGIN:STANDARD
TZOFFSETFROM:+0100
TZOFFSETTO:+0000
TZNAME:GMT
DTSTART:20241027T010000
END:STANDARD
END:VTIMEZONE
BEGIN:VEVENT
DTSTART;TZID=Europe/London:20240213T080000
DTEND;TZID=Europe/London:20240219T170000
DTSTAMP:20260422T110917
CREATED:20230320T215113Z
LAST-MODIFIED:20240223T220029Z
UID:1721-1707811200-1708362000@wellnesscoachcornwall.co.uk
SUMMARY:pura vida Costa Rica beach escape
DESCRIPTION:THIS ESCAPE HAS NOW EXPIRED \nJoin me for a Costa Rican beach retreat in the coastal town of Samara\, Feb 13th – 19th 2024. \nSamara and its 4km long beach offers the perfect atmosphere to relax and recentre. You will be staying in a beachside property in a quieter part 2km outside of town\, overlooking the beach and the Chora Island with its white sands and coral waters. \n  \n \n  \nThe accommodation outdoor area and beach is suitable for body movement sessions\, deep stretching and meditation. During our 6 night stay here we will take part in a variety of activities\, including: beach bike rides\, jungle hikes to secluded bays\, daily sunrise workouts\, and the optional extras of horse riding\, kayaking and wildlife tours\, all to be discussed when booking. \nI will be preparing a HUGE brunch and evening meal daily\, using the local\, fresh produce\, which we will enjoy from the comfort of the private accommodation. This is a 4 bedroom property\, and my aim is to make this an exclusive retreat\, so it’s only single occupancy unless couples book\, I believe that having the privacy and luxury of your own space is so important in this experience\, so this means numbers will be limited. \n  \n \n  \nWe will spend this time getting to know the local area\, and the local daily sellers. Daily mid morning walks into Samara town to pick up some fresh coconuts\, hoping to bump into the empanada man on the beach and buying fresh fruit smoothies before the 2km walk back. \n  \n \n  \nThis escape is a detoxification of the mind focusing on movement for wellness. Disconnection from daily stresses and pressure while re connecting with yourself and nature. \n  \n \n  \nWHAT’S INCLUDED \n● 6 Days of training and support from myself. \n● 6 nights single occupancy accommodation in a large house situated 2km along Samara beach. \n● a LARGE brunch and evening dinner daily – Day 1 dinner on arrival\, Day 7 breakfast before departure. \n● Transportation services between destinations San José- Samara- Samara- San José \n  \nAdditional costs paid by the CLIENT include: \n● Travel costs (flights and taxi to meeting point if coming earlier than meeting time and date) \n● Personal clothing\, gear and equipment \n● Personal Medical and Trip Cancellation Travel Insurance \n● Any expense of personal nature (souvenirs\, alcohol etc.) \n● Tips (guides\, porters\, cooks) \n● Accommodations pre/ post trip \n  \nItinerary to follow on request. this escape will be designed with your best interests. There will be optional extras\, and support on further bookings either side of this escape\, if your stay is planned for longer. \n  \n \nOptional extras \n● Kayak and snorkle trip to Chora Island\, $50 pp \n● Guided nature hike in local private nature reserve\, $40 pp \nI would advise using this escape as an introduction to your Costa Rican journey if you plan on staying longer than the escape itself. \n 
URL:https://wellnesscoachcornwall.co.uk/event/pura-vida-costa-rica-beach-escape/
CATEGORIES:fitness and wellness retreats,Fitness holiday retreats,Outdoor Fitness and Soul Running,wellness retreats
ATTACH;FMTTYPE=image/jpeg:https://wellnesscoachcornwall.co.uk/wp-content/uploads/2023/02/jumping-1.jpg
END:VEVENT
END:VCALENDAR