BEGIN:VCALENDAR
VERSION:2.0
PRODID:-//Tracy Waite Wellness Coach - ECPv6.0.5//NONSGML v1.0//EN
CALSCALE:GREGORIAN
METHOD:PUBLISH
X-ORIGINAL-URL:https://wellnesscoachcornwall.co.uk
X-WR-CALDESC:Events for Tracy Waite Wellness Coach
REFRESH-INTERVAL;VALUE=DURATION:PT1H
X-Robots-Tag:noindex
X-PUBLISHED-TTL:PT1H
BEGIN:VTIMEZONE
TZID:UTC
BEGIN:STANDARD
TZOFFSETFROM:+0000
TZOFFSETTO:+0000
TZNAME:UTC
DTSTART:20230101T000000
END:STANDARD
END:VTIMEZONE
BEGIN:VEVENT
DTSTART;TZID=UTC:20230818T110000
DTEND;TZID=UTC:20230818T130000
DTSTAMP:20260425T153102
CREATED:20230612T131251Z
LAST-MODIFIED:20240223T215858Z
UID:2210-1692356400-1692363600@wellnesscoachcornwall.co.uk
SUMMARY:move\, sauna\, dip
DESCRIPTION:THIS ESCAPE HAS NOW EXPIRED \nCarve out some time to break through the barriers to living your best life. \nI am super excited to offer another training session from St Anthonys gardens alongside Rising Embers sauna to offer two hours of movement for mind\, body and soul. \nBuild core strength and endurance for both your physical and mental health an hour work out in the beautiful garden settings\, then sauna and swim \nBeginners welcome  \nbuilding solid foundations for health and vitality. \nLimited spaces available\, book via link  https://www.eventbrite.co.uk/e/move-sauna-dip-tickets-688837660987?aff=oddtdtcreator \nFriday 18th Aug 11-1pm
URL:https://wellnesscoachcornwall.co.uk/event/move-sauna-dip/
LOCATION:Rising Embers Sauna\, St Anthonys Gardens\, Penzance\, Cornwall\, TR18 4HH\, United Kingdom
CATEGORIES:fitness and wellness retreats,Outdoor Fitness and Soul Running,wellness retreats
ATTACH;FMTTYPE=image/jpeg:https://wellnesscoachcornwall.co.uk/wp-content/uploads/2023/06/move-sauna-dip.jpg
ORGANIZER;CN="Tracy%20Waite":MAILTO:tracy.waite@live.co.uk
END:VEVENT
END:VCALENDAR